{
 "currentVersion": 10.91,
 "serviceDescription": "EagleView 2\" Imagery .SID format. Flown Late Fall 2021",
 "name": "Imagery/DurangoN_2in",
 "description": "EagleView 2\" Imagery .SID format. Flown Late Fall 2021",
 "extent": {
  "xmin": 2285975.9999999953,
  "ymin": 1228128.165874675,
  "xmax": 2336135.8343365253,
  "ymax": 1267728.000000005,
  "spatialReference": {
   "wkid": 102655,
   "latestWkid": 2233
  }
 },
 "initialExtent": {
  "xmin": 2285975.9999999953,
  "ymin": 1228128.165874675,
  "xmax": 2336135.8343365253,
  "ymax": 1267728.000000005,
  "spatialReference": {
   "wkid": 102655,
   "latestWkid": 2233
  }
 },
 "fullExtent": {
  "xmin": 2285975.9999999953,
  "ymin": 1228128.165874675,
  "xmax": 2336135.8343365253,
  "ymax": 1267728.000000005,
  "spatialReference": {
   "wkid": 102655,
   "latestWkid": 2233
  }
 },
 "pixelSizeX": 0.16666666999999985,
 "pixelSizeY": 0.16666666999999988,
 "bandCount": 3,
 "pixelType": "U8",
 "minPixelSize": 0,
 "maxPixelSize": 0,
 "copyrightText": "",
 "serviceDataType": "esriImageServiceDataTypeProcessed",
 "minValues": [
  0,
  10,
  43
 ],
 "maxValues": [
  255,
  255,
  255
 ],
 "meanValues": [
  158.36807146129,
  151.28286761338,
  146.52633989922
 ],
 "stdvValues": [
  60.757592116607,
  62.484192519536,
  63.300786503006
 ],
 "objectIdField": "",
 "fields": [],
 "capabilities": "Mensuration,Image,Metadata",
 "defaultMosaicMethod": "Center",
 "allowedMosaicMethods": "",
 "sortField": "",
 "sortValue": null,
 "sortAscending": true,
 "mosaicOperator": "First",
 "defaultCompressionQuality": 75,
 "defaultResamplingMethod": "Bilinear",
 "maxImageHeight": 4100,
 "maxImageWidth": 15000,
 "allowRasterFunction": true,
 "rasterFunctionInfos": [
  {
   "name": "None",
   "description": "",
   "help": ""
  }
 ],
 "rasterTypeInfos": [
  {
   "name": "Raster Dataset",
   "description": "Supports all ArcGIS Raster Datasets",
   "help": ""
  }
 ],
 "mensurationCapabilities": "Basic",
 "hasHistograms": true,
 "hasColormap": false,
 "hasRasterAttributeTable": false,
 "minScale": 0,
 "maxScale": 0,
 "exportTilesAllowed": false,
 "hasMultidimensions": false,
 "supportsStatistics": false,
 "supportsAdvancedQueries": false,
 "editFieldsInfo": null,
 "ownershipBasedAccessControlForRasters": null,
 "allowComputeTiePoints": false,
 "useStandardizedQueries": true,
 "advancedQueryCapabilities": {
  "useStandardizedQueries": true,
  "supportsStatistics": false,
  "supportsOrderBy": false,
  "supportsDistinct": false,
  "supportsPagination": false
 },
 "spatialReference": {
  "wkid": 102655,
  "latestWkid": 2233
 }
}
