{
 "currentVersion": 10.91,
 "serviceDescription": "2021 Late Fall 2\" imagery (South)",
 "name": "Imagery/DurangoS_2in",
 "description": "2021 Late Fall 2\" imagery (South)",
 "extent": {
  "xmin": 2291255.8334389254,
  "ymin": 1193808.1651882748,
  "xmax": 2346695.8345477255,
  "ymax": 1228128.165874675,
  "spatialReference": {
   "wkid": 102655,
   "latestWkid": 2233
  }
 },
 "initialExtent": {
  "xmin": 2291255.8334389254,
  "ymin": 1193808.1651882748,
  "xmax": 2346695.8345477255,
  "ymax": 1228128.165874675,
  "spatialReference": {
   "wkid": 102655,
   "latestWkid": 2233
  }
 },
 "fullExtent": {
  "xmin": 2291255.8334389254,
  "ymin": 1193808.1651882748,
  "xmax": 2346695.8345477255,
  "ymax": 1228128.165874675,
  "spatialReference": {
   "wkid": 102655,
   "latestWkid": 2233
  }
 },
 "pixelSizeX": 0.16666667000000018,
 "pixelSizeY": 0.16666667000000052,
 "bandCount": 3,
 "pixelType": "U8",
 "minPixelSize": 0,
 "maxPixelSize": 0,
 "copyrightText": "",
 "serviceDataType": "esriImageServiceDataTypeProcessed",
 "minValues": [
  4,
  13,
  14
 ],
 "maxValues": [
  255,
  255,
  255
 ],
 "meanValues": [
  156.69464371114,
  146.63295074127,
  134.99569583931
 ],
 "stdvValues": [
  56.009216166243,
  55.783840129173,
  59.654204250615
 ],
 "objectIdField": "",
 "fields": [],
 "capabilities": "Mensuration,Image,Metadata",
 "defaultMosaicMethod": "Center",
 "allowedMosaicMethods": "",
 "sortField": "",
 "sortValue": null,
 "sortAscending": true,
 "mosaicOperator": "First",
 "defaultCompressionQuality": 75,
 "defaultResamplingMethod": "Bilinear",
 "maxImageHeight": 4100,
 "maxImageWidth": 15000,
 "allowRasterFunction": true,
 "rasterFunctionInfos": [
  {
   "name": "None",
   "description": "",
   "help": ""
  }
 ],
 "rasterTypeInfos": [
  {
   "name": "Raster Dataset",
   "description": "Supports all ArcGIS Raster Datasets",
   "help": ""
  }
 ],
 "mensurationCapabilities": "Basic",
 "hasHistograms": true,
 "hasColormap": false,
 "hasRasterAttributeTable": false,
 "minScale": 0,
 "maxScale": 0,
 "exportTilesAllowed": false,
 "hasMultidimensions": false,
 "supportsStatistics": false,
 "supportsAdvancedQueries": false,
 "editFieldsInfo": null,
 "ownershipBasedAccessControlForRasters": null,
 "allowComputeTiePoints": false,
 "useStandardizedQueries": true,
 "advancedQueryCapabilities": {
  "useStandardizedQueries": true,
  "supportsStatistics": false,
  "supportsOrderBy": false,
  "supportsDistinct": false,
  "supportsPagination": false
 },
 "spatialReference": {
  "wkid": 102655,
  "latestWkid": 2233
 }
}
