{
 "currentVersion": 10.91,
 "serviceDescription": "Imagery/Florida_Rd",
 "name": "Imagery/Florida_Rd",
 "description": "",
 "extent": {
  "xmin": 2319270.75,
  "ymin": 1238576.75,
  "xmax": 2360433.5,
  "ymax": 1255439,
  "spatialReference": {
   "wkid": 102655,
   "latestWkid": 2233
  }
 },
 "initialExtent": {
  "xmin": 2319270.75,
  "ymin": 1238576.75,
  "xmax": 2360433.5,
  "ymax": 1255439,
  "spatialReference": {
   "wkid": 102655,
   "latestWkid": 2233
  }
 },
 "fullExtent": {
  "xmin": 2319270.75,
  "ymin": 1238576.75,
  "xmax": 2360433.5,
  "ymax": 1255439,
  "spatialReference": {
   "wkid": 102655,
   "latestWkid": 2233
  }
 },
 "pixelSizeX": 0.25,
 "pixelSizeY": 0.25,
 "bandCount": 3,
 "pixelType": "U8",
 "minPixelSize": 0,
 "maxPixelSize": 0,
 "copyrightText": "",
 "serviceDataType": "esriImageServiceDataTypeRGB",
 "minValues": [
  0,
  0,
  0
 ],
 "maxValues": [
  255,
  255,
  255
 ],
 "meanValues": [
  109.58590541116598,
  114.61953723652385,
  100.34581400350883
 ],
 "stdvValues": [
  45.10051761322564,
  39.61094031941277,
  36.607748488002635
 ],
 "objectIdField": "",
 "fields": [],
 "capabilities": "Mensuration,Image,Metadata",
 "defaultMosaicMethod": "Center",
 "allowedMosaicMethods": "",
 "sortField": "",
 "sortValue": null,
 "sortAscending": true,
 "mosaicOperator": "First",
 "defaultCompressionQuality": 75,
 "defaultResamplingMethod": "Bilinear",
 "maxImageHeight": 4100,
 "maxImageWidth": 15000,
 "allowRasterFunction": true,
 "rasterFunctionInfos": [
  {
   "name": "None",
   "description": "",
   "help": ""
  }
 ],
 "rasterTypeInfos": [
  {
   "name": "Raster Dataset",
   "description": "Supports all ArcGIS Raster Datasets",
   "help": ""
  }
 ],
 "mensurationCapabilities": "Basic",
 "hasHistograms": true,
 "hasColormap": false,
 "hasRasterAttributeTable": false,
 "minScale": 0,
 "maxScale": 0,
 "exportTilesAllowed": false,
 "hasMultidimensions": false,
 "supportsStatistics": false,
 "supportsAdvancedQueries": false,
 "editFieldsInfo": null,
 "ownershipBasedAccessControlForRasters": null,
 "allowComputeTiePoints": false,
 "useStandardizedQueries": true,
 "advancedQueryCapabilities": {
  "useStandardizedQueries": true,
  "supportsStatistics": false,
  "supportsOrderBy": false,
  "supportsDistinct": false,
  "supportsPagination": false
 },
 "spatialReference": {
  "wkid": 102655,
  "latestWkid": 2233
 }
}
