{
 "currentVersion": 10.91,
 "serviceDescription": "Imagery/Imagery2001",
 "name": "Imagery/Imagery2001",
 "description": "",
 "extent": {
  "xmin": 2287418.9980333,
  "ymin": 1196812.775876401,
  "xmax": 2342858.9980333,
  "ymax": 1262812.775876401,
  "spatialReference": {
   "wkid": 102655,
   "latestWkid": 2233
  }
 },
 "initialExtent": {
  "xmin": 2287418.9980333,
  "ymin": 1196812.775876401,
  "xmax": 2342858.9980333,
  "ymax": 1262812.775876401,
  "spatialReference": {
   "wkid": 102655,
   "latestWkid": 2233
  }
 },
 "fullExtent": {
  "xmin": 2287418.9980333,
  "ymin": 1196812.775876401,
  "xmax": 2342858.9980333,
  "ymax": 1262812.775876401,
  "spatialReference": {
   "wkid": 102655,
   "latestWkid": 2233
  }
 },
 "pixelSizeX": 0.5,
 "pixelSizeY": 0.5,
 "bandCount": 3,
 "pixelType": "U8",
 "minPixelSize": 0,
 "maxPixelSize": 0,
 "copyrightText": "",
 "serviceDataType": "esriImageServiceDataTypeRGB",
 "minValues": [
  0,
  0,
  0
 ],
 "maxValues": [
  255,
  255,
  255
 ],
 "meanValues": [
  97.16704478715728,
  106.23028862932627,
  91.35659688026094
 ],
 "stdvValues": [
  53.64021819919945,
  57.311783734244145,
  50.1919933909067
 ],
 "objectIdField": "",
 "fields": [],
 "capabilities": "Mensuration,Image,Metadata",
 "defaultMosaicMethod": "Center",
 "allowedMosaicMethods": "",
 "sortField": "",
 "sortValue": null,
 "sortAscending": true,
 "mosaicOperator": "First",
 "defaultCompressionQuality": 75,
 "defaultResamplingMethod": "Bilinear",
 "maxImageHeight": 4100,
 "maxImageWidth": 15000,
 "allowRasterFunction": true,
 "rasterFunctionInfos": [
  {
   "name": "None",
   "description": "",
   "help": ""
  }
 ],
 "rasterTypeInfos": [
  {
   "name": "Raster Dataset",
   "description": "Supports all ArcGIS Raster Datasets",
   "help": ""
  }
 ],
 "mensurationCapabilities": "Basic",
 "hasHistograms": true,
 "hasColormap": false,
 "hasRasterAttributeTable": false,
 "minScale": 0,
 "maxScale": 0,
 "exportTilesAllowed": false,
 "hasMultidimensions": false,
 "supportsStatistics": false,
 "supportsAdvancedQueries": false,
 "editFieldsInfo": null,
 "ownershipBasedAccessControlForRasters": null,
 "allowComputeTiePoints": false,
 "useStandardizedQueries": true,
 "advancedQueryCapabilities": {
  "useStandardizedQueries": true,
  "supportsStatistics": false,
  "supportsOrderBy": false,
  "supportsDistinct": false,
  "supportsPagination": false
 },
 "spatialReference": {
  "wkid": 102655,
  "latestWkid": 2233
 }
}
