{
 "currentVersion": 10.91,
 "serviceDescription": "Imagery/Imagery2012",
 "name": "Imagery/Imagery2012",
 "description": "",
 "extent": {
  "xmin": 2282136,
  "ymin": 1178335,
  "xmax": 2348136,
  "ymax": 1262815,
  "spatialReference": {
   "wkid": 102655,
   "latestWkid": 2233
  }
 },
 "initialExtent": {
  "xmin": 2282136,
  "ymin": 1178335,
  "xmax": 2348136,
  "ymax": 1262815,
  "spatialReference": {
   "wkid": 102655,
   "latestWkid": 2233
  }
 },
 "fullExtent": {
  "xmin": 2282136,
  "ymin": 1178335,
  "xmax": 2348136,
  "ymax": 1262815,
  "spatialReference": {
   "wkid": 102655,
   "latestWkid": 2233
  }
 },
 "pixelSizeX": 0.5,
 "pixelSizeY": 0.5,
 "bandCount": 4,
 "pixelType": "U16",
 "minPixelSize": 0,
 "maxPixelSize": 0,
 "copyrightText": "",
 "serviceDataType": "esriImageServiceDataTypeGeneric",
 "minValues": [
  0,
  0,
  0,
  0
 ],
 "maxValues": [
  65535,
  65535,
  65535,
  65535
 ],
 "meanValues": [
  34350.85927234153,
  31464.090105543437,
  26260.48841079158,
  34590.162154346246
 ],
 "stdvValues": [
  10458.049622835873,
  10087.725684901252,
  10254.206924882701,
  10612.790025122353
 ],
 "objectIdField": "",
 "fields": [],
 "capabilities": "Mensuration,Image,Metadata",
 "defaultMosaicMethod": "Center",
 "allowedMosaicMethods": "",
 "sortField": "",
 "sortValue": null,
 "sortAscending": true,
 "mosaicOperator": "First",
 "defaultCompressionQuality": 75,
 "defaultResamplingMethod": "Bilinear",
 "maxImageHeight": 4100,
 "maxImageWidth": 15000,
 "allowRasterFunction": true,
 "rasterFunctionInfos": [
  {
   "name": "None",
   "description": "",
   "help": ""
  }
 ],
 "rasterTypeInfos": [
  {
   "name": "Raster Dataset",
   "description": "Supports all ArcGIS Raster Datasets",
   "help": ""
  }
 ],
 "mensurationCapabilities": "Basic",
 "hasHistograms": true,
 "hasColormap": false,
 "hasRasterAttributeTable": false,
 "minScale": 0,
 "maxScale": 0,
 "exportTilesAllowed": false,
 "hasMultidimensions": false,
 "supportsStatistics": false,
 "supportsAdvancedQueries": false,
 "editFieldsInfo": null,
 "ownershipBasedAccessControlForRasters": null,
 "allowComputeTiePoints": false,
 "useStandardizedQueries": true,
 "advancedQueryCapabilities": {
  "useStandardizedQueries": true,
  "supportsStatistics": false,
  "supportsOrderBy": false,
  "supportsDistinct": false,
  "supportsPagination": false
 },
 "spatialReference": {
  "wkid": 102655,
  "latestWkid": 2233
 }
}
