{
 "currentVersion": 10.91,
 "serviceDescription": "Imagery/Imagery2015",
 "name": "Imagery/Imagery2015",
 "description": "",
 "extent": {
  "xmin": 2287137.2499091327,
  "ymin": 1196091.2500991463,
  "xmax": 2345310.2499091327,
  "ymax": 1265366.7500991463,
  "spatialReference": {
   "wkid": 103249,
   "latestWkid": 103249
  }
 },
 "initialExtent": {
  "xmin": 2287137.2499091327,
  "ymin": 1196091.2500991463,
  "xmax": 2345310.2499091327,
  "ymax": 1265366.7500991463,
  "spatialReference": {
   "wkid": 103249,
   "latestWkid": 103249
  }
 },
 "fullExtent": {
  "xmin": 2287137.2499091327,
  "ymin": 1196091.2500991463,
  "xmax": 2345310.2499091327,
  "ymax": 1265366.7500991463,
  "spatialReference": {
   "wkid": 103249,
   "latestWkid": 103249
  }
 },
 "pixelSizeX": 0.25,
 "pixelSizeY": 0.25,
 "bandCount": 3,
 "pixelType": "U8",
 "minPixelSize": 0,
 "maxPixelSize": 0,
 "copyrightText": "",
 "serviceDataType": "esriImageServiceDataTypeRGB",
 "minValues": [
  0,
  0,
  0
 ],
 "maxValues": [
  255,
  255,
  255
 ],
 "meanValues": [
  134.92806477181148,
  124.30186851823487,
  94.49005142117116
 ],
 "stdvValues": [
  52.84715580082513,
  47.03685618278339,
  39.99844276077126
 ],
 "objectIdField": "",
 "fields": [],
 "capabilities": "Mensuration,Image,Metadata",
 "defaultMosaicMethod": "Center",
 "allowedMosaicMethods": "",
 "sortField": "",
 "sortValue": null,
 "sortAscending": true,
 "mosaicOperator": "First",
 "defaultCompressionQuality": 75,
 "defaultResamplingMethod": "Bilinear",
 "maxImageHeight": 4100,
 "maxImageWidth": 15000,
 "allowRasterFunction": true,
 "rasterFunctionInfos": [
  {
   "name": "None",
   "description": "",
   "help": ""
  }
 ],
 "rasterTypeInfos": [
  {
   "name": "Raster Dataset",
   "description": "Supports all ArcGIS Raster Datasets",
   "help": ""
  }
 ],
 "mensurationCapabilities": "Basic",
 "hasHistograms": true,
 "hasColormap": false,
 "hasRasterAttributeTable": false,
 "minScale": 0,
 "maxScale": 0,
 "exportTilesAllowed": false,
 "hasMultidimensions": false,
 "supportsStatistics": false,
 "supportsAdvancedQueries": false,
 "editFieldsInfo": null,
 "ownershipBasedAccessControlForRasters": null,
 "allowComputeTiePoints": false,
 "useStandardizedQueries": true,
 "advancedQueryCapabilities": {
  "useStandardizedQueries": true,
  "supportsStatistics": false,
  "supportsOrderBy": false,
  "supportsDistinct": false,
  "supportsPagination": false
 },
 "spatialReference": {
  "wkid": 103249,
  "latestWkid": 103249
 }
}
