{
 "currentVersion": 10.91,
 "serviceDescription": "3\" resolution Aerial Photography taken spring 2017",
 "name": "Imagery/Imagery2017",
 "description": "3\" resolution Aerial Photography taken spring 2017",
 "extent": {
  "xmin": 2287137.25,
  "ymin": 1163292.75,
  "xmax": 2398566,
  "ymax": 1265366.75,
  "spatialReference": {
   "wkid": 102655,
   "latestWkid": 2233
  }
 },
 "initialExtent": {
  "xmin": 2287137.25,
  "ymin": 1163292.75,
  "xmax": 2398566,
  "ymax": 1265366.75,
  "spatialReference": {
   "wkid": 102655,
   "latestWkid": 2233
  }
 },
 "fullExtent": {
  "xmin": 2287137.25,
  "ymin": 1163292.75,
  "xmax": 2398566,
  "ymax": 1265366.75,
  "spatialReference": {
   "wkid": 102655,
   "latestWkid": 2233
  }
 },
 "pixelSizeX": 0.25,
 "pixelSizeY": 0.25,
 "bandCount": 3,
 "pixelType": "U8",
 "minPixelSize": 0,
 "maxPixelSize": 0,
 "copyrightText": "",
 "serviceDataType": "esriImageServiceDataTypeRGB",
 "minValues": [
  0,
  0,
  0
 ],
 "maxValues": [
  255,
  255,
  255
 ],
 "meanValues": [
  139.4095671179202,
  123.97836164526441,
  92.78494855061531
 ],
 "stdvValues": [
  48.68406013990627,
  43.16621357274046,
  38.666005382021766
 ],
 "objectIdField": "",
 "fields": [],
 "capabilities": "Mensuration,Image,Metadata",
 "defaultMosaicMethod": "Center",
 "allowedMosaicMethods": "",
 "sortField": "",
 "sortValue": null,
 "sortAscending": true,
 "mosaicOperator": "First",
 "defaultCompressionQuality": 75,
 "defaultResamplingMethod": "Bilinear",
 "maxImageHeight": 4100,
 "maxImageWidth": 15000,
 "allowRasterFunction": true,
 "rasterFunctionInfos": [
  {
   "name": "None",
   "description": "",
   "help": ""
  }
 ],
 "rasterTypeInfos": [
  {
   "name": "Raster Dataset",
   "description": "Supports all ArcGIS Raster Datasets",
   "help": ""
  }
 ],
 "mensurationCapabilities": "Basic",
 "hasHistograms": true,
 "hasColormap": false,
 "hasRasterAttributeTable": false,
 "minScale": 0,
 "maxScale": 0,
 "exportTilesAllowed": false,
 "hasMultidimensions": false,
 "supportsStatistics": false,
 "supportsAdvancedQueries": false,
 "editFieldsInfo": null,
 "ownershipBasedAccessControlForRasters": null,
 "allowComputeTiePoints": false,
 "useStandardizedQueries": true,
 "advancedQueryCapabilities": {
  "useStandardizedQueries": true,
  "supportsStatistics": false,
  "supportsOrderBy": false,
  "supportsDistinct": false,
  "supportsPagination": false
 },
 "spatialReference": {
  "wkid": 102655,
  "latestWkid": 2233
 }
}
