{
 "currentVersion": 10.91,
 "serviceDescription": "Imagery taken June 2010",
 "name": "Imagery/Imagery2019",
 "description": "Imagery taken June 2010",
 "extent": {
  "xmin": 2286306.5,
  "ymin": 1195961.5,
  "xmax": 2340893.5,
  "ymax": 1255083.25,
  "spatialReference": {
   "wkid": 102655,
   "latestWkid": 2233
  }
 },
 "initialExtent": {
  "xmin": 2286306.5,
  "ymin": 1195961.5,
  "xmax": 2340893.5,
  "ymax": 1255083.25,
  "spatialReference": {
   "wkid": 102655,
   "latestWkid": 2233
  }
 },
 "fullExtent": {
  "xmin": 2286306.5,
  "ymin": 1195961.5,
  "xmax": 2340893.5,
  "ymax": 1255083.25,
  "spatialReference": {
   "wkid": 102655,
   "latestWkid": 2233
  }
 },
 "pixelSizeX": 0.25,
 "pixelSizeY": 0.25,
 "bandCount": 3,
 "pixelType": "U8",
 "minPixelSize": 0,
 "maxPixelSize": 0,
 "copyrightText": "",
 "serviceDataType": "esriImageServiceDataTypeRGB",
 "minValues": [
  0,
  0,
  0
 ],
 "maxValues": [
  255,
  255,
  253
 ],
 "meanValues": [
  122.6917287810739,
  120.00501886045163,
  103.05281904478045
 ],
 "stdvValues": [
  54.9134786040978,
  50.12901223414873,
  42.53827276496365
 ],
 "objectIdField": "",
 "fields": [],
 "capabilities": "Mensuration,Image,Metadata",
 "defaultMosaicMethod": "Center",
 "allowedMosaicMethods": "",
 "sortField": "",
 "sortValue": null,
 "sortAscending": true,
 "mosaicOperator": "First",
 "defaultCompressionQuality": 75,
 "defaultResamplingMethod": "Bilinear",
 "maxImageHeight": 4100,
 "maxImageWidth": 15000,
 "allowRasterFunction": true,
 "rasterFunctionInfos": [
  {
   "name": "None",
   "description": "",
   "help": ""
  }
 ],
 "rasterTypeInfos": [
  {
   "name": "Raster Dataset",
   "description": "Supports all ArcGIS Raster Datasets",
   "help": ""
  }
 ],
 "mensurationCapabilities": "Basic",
 "hasHistograms": true,
 "hasColormap": false,
 "hasRasterAttributeTable": false,
 "minScale": 0,
 "maxScale": 0,
 "exportTilesAllowed": false,
 "hasMultidimensions": false,
 "supportsStatistics": false,
 "supportsAdvancedQueries": false,
 "editFieldsInfo": null,
 "ownershipBasedAccessControlForRasters": null,
 "allowComputeTiePoints": false,
 "useStandardizedQueries": true,
 "advancedQueryCapabilities": {
  "useStandardizedQueries": true,
  "supportsStatistics": false,
  "supportsOrderBy": false,
  "supportsDistinct": false,
  "supportsPagination": false
 },
 "spatialReference": {
  "wkid": 102655,
  "latestWkid": 2233
 }
}
