View In:
ArcGIS JavaScript
ArcGIS Online Map Viewer
ArcGIS Earth
ArcMap
View Footprint In:
ArcGIS Online Map Viewer
Service Description: Imagery/Imagery2007
Name: Imagery/Imagery2007
Description:
Single Fused Map Cache: false
Extent:
XMin: 2290058.998330727
YMin: 1196812.7752202298
XMax: 2342858.998330727
YMax: 1262812.7752202298
Spatial Reference: 102655
(2233)
Initial Extent:
XMin: 2290058.998330727
YMin: 1196812.7752202298
XMax: 2342858.998330727
YMax: 1262812.7752202298
Spatial Reference: 102655
(2233)
Full Extent:
XMin: 2290058.998330727
YMin: 1196812.7752202298
XMax: 2342858.998330727
YMax: 1262812.7752202298
Spatial Reference: 102655
(2233)
Pixel Size X: 0.5
Pixel Size Y: 0.5
Band Count: 3
Pixel Type: U8
RasterFunction Infos: {"rasterFunctionInfos": [{
"name": "None",
"description": "",
"help": ""
}]}
Mensuration Capabilities: Basic
Has Histograms: true
Has Colormap: false
Has Multi Dimensions : false
Rendering Rule:
Min Scale: 0
Max Scale: 0
Copyright Text:
Service Data Type: esriImageServiceDataTypeRGB
Min Values: 0, 0, 0
Max Values: 255, 255, 255
Mean Values: 95.16767626942755, 90.08209278638536, 68.20807462124907
Standard Deviation Values: 44.322810105965345, 41.21467184830366, 30.470295003587818
Object ID Field:
Fields:
None
Default Mosaic Method: Center
Allowed Mosaic Methods:
SortField:
SortValue: null
Mosaic Operator: First
Default Compression Quality: 75
Default Resampling Method: Bilinear
Max Record Count: null
Max Image Height: 4100
Max Image Width: 15000
Max Download Image Count: null
Max Mosaic Image Count: null
Allow Raster Function: true
Allow Copy: null
Allow Analysis: null
Allow Compute TiePoints: false
Supports Statistics: false
Supports Advanced Queries: false
Use StandardizedQueries: true
Raster Type Infos:
Name: Raster Dataset
Description: Supports all ArcGIS Raster Datasets
Help:
Has Raster Attribute Table: false
Edit Fields Info: null
Ownership Based AccessControl For Rasters: null
Child Resources:
Info
Histograms
Key Properties
Legend
Raster Function Infos
Supported Operations:
Export Image
Identify
Measure
Compute Histograms
Compute Statistics Histograms
Get Samples
Compute Class Statistics
Query Boundary
Compute Pixel Location
Compute Angles
Validate
Project