View In:
ArcGIS JavaScript
ArcGIS Online Map Viewer
ArcGIS Earth
ArcMap
View Footprint In:
ArcGIS Online Map Viewer
Service Description: Aerial Photography flown April 2021
Name: Imagery/Imagery2021_Tif
Description: Aerial Photography flown April 2021
Single Fused Map Cache: false
Extent:
XMin: 2282135.9355963767
YMin: 1178334.9493893087
XMax: 2348835.9355963767
YMax: 1254894.9493893087
Spatial Reference: 102655
(2233)
Initial Extent:
XMin: 2282135.9355963767
YMin: 1178334.9493893087
XMax: 2348835.9355963767
YMax: 1254894.9493893087
Spatial Reference: 102655
(2233)
Full Extent:
XMin: 2282135.9355963767
YMin: 1178334.9493893087
XMax: 2348835.9355963767
YMax: 1254894.9493893087
Spatial Reference: 102655
(2233)
Pixel Size X: 0.25
Pixel Size Y: 0.25
Band Count: 4
Pixel Type: U8
RasterFunction Infos: {"rasterFunctionInfos": [{
"name": "None",
"description": "",
"help": ""
}]}
Mensuration Capabilities: Basic
Has Histograms: true
Has Colormap: false
Has Multi Dimensions : false
Rendering Rule:
Min Scale: 0
Max Scale: 0
Copyright Text:
Service Data Type: esriImageServiceDataTypeGeneric
Min Values: 0, 0, 0, 0
Max Values: 255, 255, 255, 255
Mean Values: 116.76388009262442, 120.35779318082893, 105.63233960039946, 146.03649846815574
Standard Deviation Values: 45.02797624935433, 38.677442455813015, 32.81226970114493, 37.80465786155332
Object ID Field:
Fields:
None
Default Mosaic Method: Center
Allowed Mosaic Methods:
SortField:
SortValue: null
Mosaic Operator: First
Default Compression Quality: 75
Default Resampling Method: Bilinear
Max Record Count: null
Max Image Height: 4100
Max Image Width: 15000
Max Download Image Count: null
Max Mosaic Image Count: null
Allow Raster Function: true
Allow Copy: null
Allow Analysis: null
Allow Compute TiePoints: false
Supports Statistics: false
Supports Advanced Queries: false
Use StandardizedQueries: true
Raster Type Infos:
Name: Raster Dataset
Description: Supports all ArcGIS Raster Datasets
Help:
Has Raster Attribute Table: false
Edit Fields Info: null
Ownership Based AccessControl For Rasters: null
Child Resources:
Info
Histograms
Key Properties
Legend
Raster Function Infos
Supported Operations:
Export Image
Identify
Measure
Compute Histograms
Compute Statistics Histograms
Get Samples
Compute Class Statistics
Query Boundary
Compute Pixel Location
Compute Angles
Validate
Project