View In:
ArcGIS JavaScript
ArcGIS Online Map Viewer
ArcGIS Earth
ArcMap
View Footprint In:
ArcGIS Online Map Viewer
Service Description: Imagery/Shaded_Relief_mosaic_dsm
Name: Imagery/Shaded_Relief_mosaic_dsm
Description:
Single Fused Map Cache: false
Extent:
XMin: 2282136
YMin: 1178335
XMax: 2348838
YMax: 1254897
Spatial Reference: PROJCS["NAD_1983_2011_StatePlane_Colorado_South_FIPS_0503_Ft_US",GEOGCS["GCS_NAD_1983_2011",DATUM["D_NAD_1983_2011",SPHEROID["GRS_1980",6378137.0,298.257222101]],PRIMEM["Greenwich",0.0],UNIT["Degree",0.0174532925199433]],PROJECTION["Lambert_Conformal_Conic"],PARAMETER["false_easting",3000000.0],PARAMETER["false_northing",1000000.0],PARAMETER["central_meridian",-105.5],PARAMETER["standard_parallel_1",37.23333333333333],PARAMETER["standard_parallel_2",38.43333333333333],PARAMETER["latitude_of_origin",36.66666666666666],UNIT["Foot_US",0.3048006096012192]]
Initial Extent:
XMin: 2282136
YMin: 1178335
XMax: 2348838
YMax: 1254897
Spatial Reference: PROJCS["NAD_1983_2011_StatePlane_Colorado_South_FIPS_0503_Ft_US",GEOGCS["GCS_NAD_1983_2011",DATUM["D_NAD_1983_2011",SPHEROID["GRS_1980",6378137.0,298.257222101]],PRIMEM["Greenwich",0.0],UNIT["Degree",0.0174532925199433]],PROJECTION["Lambert_Conformal_Conic"],PARAMETER["false_easting",3000000.0],PARAMETER["false_northing",1000000.0],PARAMETER["central_meridian",-105.5],PARAMETER["standard_parallel_1",37.23333333333333],PARAMETER["standard_parallel_2",38.43333333333333],PARAMETER["latitude_of_origin",36.66666666666666],UNIT["Foot_US",0.3048006096012192]]
Full Extent:
XMin: 2282136
YMin: 1178335
XMax: 2348838
YMax: 1254897
Spatial Reference: PROJCS["NAD_1983_2011_StatePlane_Colorado_South_FIPS_0503_Ft_US",GEOGCS["GCS_NAD_1983_2011",DATUM["D_NAD_1983_2011",SPHEROID["GRS_1980",6378137.0,298.257222101]],PRIMEM["Greenwich",0.0],UNIT["Degree",0.0174532925199433]],PROJECTION["Lambert_Conformal_Conic"],PARAMETER["false_easting",3000000.0],PARAMETER["false_northing",1000000.0],PARAMETER["central_meridian",-105.5],PARAMETER["standard_parallel_1",37.23333333333333],PARAMETER["standard_parallel_2",38.43333333333333],PARAMETER["latitude_of_origin",36.66666666666666],UNIT["Foot_US",0.3048006096012192]]
Pixel Size X: 2.0
Pixel Size Y: 2.0
Band Count: 3
Pixel Type: U8
RasterFunction Infos: {"rasterFunctionInfos": [{
"name": "None",
"description": "",
"help": ""
}]}
Mensuration Capabilities: Basic
Has Histograms: true
Has Colormap: false
Has Multi Dimensions : false
Rendering Rule:
Min Scale: 0
Max Scale: 0
Copyright Text:
Service Data Type: esriImageServiceDataTypeProcessed
Min Values: 0, 0, 0
Max Values: 255, 255, 255
Mean Values: 46.829234314641, 67.441526392006, 29.225802705627
Standard Deviation Values: 69.276967071885, 84.782873449626, 42.563041926599
Object ID Field:
Fields:
None
Default Mosaic Method: Center
Allowed Mosaic Methods:
SortField:
SortValue: null
Mosaic Operator: First
Default Compression Quality: 75
Default Resampling Method: Bilinear
Max Record Count: null
Max Image Height: 4100
Max Image Width: 15000
Max Download Image Count: null
Max Mosaic Image Count: null
Allow Raster Function: true
Allow Copy: null
Allow Analysis: null
Allow Compute TiePoints: false
Supports Statistics: false
Supports Advanced Queries: false
Use StandardizedQueries: true
Raster Type Infos:
Name: Raster Dataset
Description: Supports all ArcGIS Raster Datasets
Help:
Has Raster Attribute Table: false
Edit Fields Info: null
Ownership Based AccessControl For Rasters: null
Child Resources:
Info
Histograms
Key Properties
Legend
Raster Function Infos
Supported Operations:
Export Image
Identify
Measure
Compute Histograms
Compute Statistics Histograms
Get Samples
Compute Class Statistics
Query Boundary
Compute Pixel Location
Compute Angles
Validate
Project