View In:
ArcGIS JavaScript
ArcGIS Online Map Viewer
ArcGIS Earth
ArcMap
View Footprint In:
ArcGIS Online Map Viewer
Service Description: EagleView 2" Imagery .SID format. Flown Late Fall 2021
Name: Imagery/DurangoN_2in
Description: EagleView 2" Imagery .SID format. Flown Late Fall 2021
Single Fused Map Cache: false
Extent:
XMin: 2285975.9999999953
YMin: 1228128.165874675
XMax: 2336135.8343365253
YMax: 1267728.000000005
Spatial Reference: 102655
(2233)
Initial Extent:
XMin: 2285975.9999999953
YMin: 1228128.165874675
XMax: 2336135.8343365253
YMax: 1267728.000000005
Spatial Reference: 102655
(2233)
Full Extent:
XMin: 2285975.9999999953
YMin: 1228128.165874675
XMax: 2336135.8343365253
YMax: 1267728.000000005
Spatial Reference: 102655
(2233)
Pixel Size X: 0.16666666999999985
Pixel Size Y: 0.16666666999999988
Band Count: 3
Pixel Type: U8
RasterFunction Infos: {"rasterFunctionInfos": [{
"name": "None",
"description": "",
"help": ""
}]}
Mensuration Capabilities: Basic
Has Histograms: true
Has Colormap: false
Has Multi Dimensions : false
Rendering Rule:
Min Scale: 0
Max Scale: 0
Copyright Text:
Service Data Type: esriImageServiceDataTypeProcessed
Min Values: 0, 10, 43
Max Values: 255, 255, 255
Mean Values: 158.36807146129, 151.28286761338, 146.52633989922
Standard Deviation Values: 60.757592116607, 62.484192519536, 63.300786503006
Object ID Field:
Fields:
None
Default Mosaic Method: Center
Allowed Mosaic Methods:
SortField:
SortValue: null
Mosaic Operator: First
Default Compression Quality: 75
Default Resampling Method: Bilinear
Max Record Count: null
Max Image Height: 4100
Max Image Width: 15000
Max Download Image Count: null
Max Mosaic Image Count: null
Allow Raster Function: true
Allow Copy: null
Allow Analysis: null
Allow Compute TiePoints: false
Supports Statistics: false
Supports Advanced Queries: false
Use StandardizedQueries: true
Raster Type Infos:
Name: Raster Dataset
Description: Supports all ArcGIS Raster Datasets
Help:
Has Raster Attribute Table: false
Edit Fields Info: null
Ownership Based AccessControl For Rasters: null
Child Resources:
Info
Histograms
Key Properties
Legend
Raster Function Infos
Supported Operations:
Export Image
Identify
Measure
Compute Histograms
Compute Statistics Histograms
Get Samples
Compute Class Statistics
Query Boundary
Compute Pixel Location
Compute Angles
Validate
Project