View In:
ArcGIS JavaScript
ArcGIS Online Map Viewer
ArcGIS Earth
ArcMap
View Footprint In:
ArcGIS Online Map Viewer
Service Description: 2021 Late Fall 2" imagery (South)
Name: Imagery/DurangoS_2in
Description: 2021 Late Fall 2" imagery (South)
Single Fused Map Cache: false
Extent:
XMin: 2291255.8334389254
YMin: 1193808.1651882748
XMax: 2346695.8345477255
YMax: 1228128.165874675
Spatial Reference: 102655
(2233)
Initial Extent:
XMin: 2291255.8334389254
YMin: 1193808.1651882748
XMax: 2346695.8345477255
YMax: 1228128.165874675
Spatial Reference: 102655
(2233)
Full Extent:
XMin: 2291255.8334389254
YMin: 1193808.1651882748
XMax: 2346695.8345477255
YMax: 1228128.165874675
Spatial Reference: 102655
(2233)
Pixel Size X: 0.16666667000000018
Pixel Size Y: 0.16666667000000052
Band Count: 3
Pixel Type: U8
RasterFunction Infos: {"rasterFunctionInfos": [{
"name": "None",
"description": "",
"help": ""
}]}
Mensuration Capabilities: Basic
Has Histograms: true
Has Colormap: false
Has Multi Dimensions : false
Rendering Rule:
Min Scale: 0
Max Scale: 0
Copyright Text:
Service Data Type: esriImageServiceDataTypeProcessed
Min Values: 4, 13, 14
Max Values: 255, 255, 255
Mean Values: 156.69464371114, 146.63295074127, 134.99569583931
Standard Deviation Values: 56.009216166243, 55.783840129173, 59.654204250615
Object ID Field:
Fields:
None
Default Mosaic Method: Center
Allowed Mosaic Methods:
SortField:
SortValue: null
Mosaic Operator: First
Default Compression Quality: 75
Default Resampling Method: Bilinear
Max Record Count: null
Max Image Height: 4100
Max Image Width: 15000
Max Download Image Count: null
Max Mosaic Image Count: null
Allow Raster Function: true
Allow Copy: null
Allow Analysis: null
Allow Compute TiePoints: false
Supports Statistics: false
Supports Advanced Queries: false
Use StandardizedQueries: true
Raster Type Infos:
Name: Raster Dataset
Description: Supports all ArcGIS Raster Datasets
Help:
Has Raster Attribute Table: false
Edit Fields Info: null
Ownership Based AccessControl For Rasters: null
Child Resources:
Info
Histograms
Key Properties
Legend
Raster Function Infos
Supported Operations:
Export Image
Identify
Measure
Compute Histograms
Compute Statistics Histograms
Get Samples
Compute Class Statistics
Query Boundary
Compute Pixel Location
Compute Angles
Validate
Project