View In:
ArcGIS JavaScript
ArcGIS Online Map Viewer
ArcGIS Earth
ArcMap
View Footprint In:
ArcGIS Online Map Viewer
Service Description: Imagery/Imagery2015
Name: Imagery/Imagery2015
Description:
Single Fused Map Cache: false
Extent:
XMin: 2287137.2499091327
YMin: 1196091.2500991463
XMax: 2345310.2499091327
YMax: 1265366.7500991463
Spatial Reference: 103249
(103249)
Initial Extent:
XMin: 2287137.2499091327
YMin: 1196091.2500991463
XMax: 2345310.2499091327
YMax: 1265366.7500991463
Spatial Reference: 103249
(103249)
Full Extent:
XMin: 2287137.2499091327
YMin: 1196091.2500991463
XMax: 2345310.2499091327
YMax: 1265366.7500991463
Spatial Reference: 103249
(103249)
Pixel Size X: 0.25
Pixel Size Y: 0.25
Band Count: 3
Pixel Type: U8
RasterFunction Infos: {"rasterFunctionInfos": [{
"name": "None",
"description": "",
"help": ""
}]}
Mensuration Capabilities: Basic
Has Histograms: true
Has Colormap: false
Has Multi Dimensions : false
Rendering Rule:
Min Scale: 0
Max Scale: 0
Copyright Text:
Service Data Type: esriImageServiceDataTypeRGB
Min Values: 0, 0, 0
Max Values: 255, 255, 255
Mean Values: 134.92806477181148, 124.30186851823487, 94.49005142117116
Standard Deviation Values: 52.84715580082513, 47.03685618278339, 39.99844276077126
Object ID Field:
Fields:
None
Default Mosaic Method: Center
Allowed Mosaic Methods:
SortField:
SortValue: null
Mosaic Operator: First
Default Compression Quality: 75
Default Resampling Method: Bilinear
Max Record Count: null
Max Image Height: 4100
Max Image Width: 15000
Max Download Image Count: null
Max Mosaic Image Count: null
Allow Raster Function: true
Allow Copy: null
Allow Analysis: null
Allow Compute TiePoints: false
Supports Statistics: false
Supports Advanced Queries: false
Use StandardizedQueries: true
Raster Type Infos:
Name: Raster Dataset
Description: Supports all ArcGIS Raster Datasets
Help:
Has Raster Attribute Table: false
Edit Fields Info: null
Ownership Based AccessControl For Rasters: null
Child Resources:
Info
Histograms
Key Properties
Legend
Raster Function Infos
Supported Operations:
Export Image
Identify
Measure
Compute Histograms
Compute Statistics Histograms
Get Samples
Compute Class Statistics
Query Boundary
Compute Pixel Location
Compute Angles
Validate
Project