View In:
ArcGIS JavaScript
ArcGIS Online Map Viewer
ArcGIS Earth
ArcMap
View Footprint In:
ArcGIS Online Map Viewer
Service Description: 3" resolution Aerial Photography taken spring 2017
Name: Imagery/Imagery2017
Description: 3" resolution Aerial Photography taken spring 2017
Single Fused Map Cache: false
Extent:
XMin: 2287137.25
YMin: 1163292.75
XMax: 2398566
YMax: 1265366.75
Spatial Reference: 102655
(2233)
Initial Extent:
XMin: 2287137.25
YMin: 1163292.75
XMax: 2398566
YMax: 1265366.75
Spatial Reference: 102655
(2233)
Full Extent:
XMin: 2287137.25
YMin: 1163292.75
XMax: 2398566
YMax: 1265366.75
Spatial Reference: 102655
(2233)
Pixel Size X: 0.25
Pixel Size Y: 0.25
Band Count: 3
Pixel Type: U8
RasterFunction Infos: {"rasterFunctionInfos": [{
"name": "None",
"description": "",
"help": ""
}]}
Mensuration Capabilities: Basic
Has Histograms: true
Has Colormap: false
Has Multi Dimensions : false
Rendering Rule:
Min Scale: 0
Max Scale: 0
Copyright Text:
Service Data Type: esriImageServiceDataTypeRGB
Min Values: 0, 0, 0
Max Values: 255, 255, 255
Mean Values: 139.4095671179202, 123.97836164526441, 92.78494855061531
Standard Deviation Values: 48.68406013990627, 43.16621357274046, 38.666005382021766
Object ID Field:
Fields:
None
Default Mosaic Method: Center
Allowed Mosaic Methods:
SortField:
SortValue: null
Mosaic Operator: First
Default Compression Quality: 75
Default Resampling Method: Bilinear
Max Record Count: null
Max Image Height: 4100
Max Image Width: 15000
Max Download Image Count: null
Max Mosaic Image Count: null
Allow Raster Function: true
Allow Copy: null
Allow Analysis: null
Allow Compute TiePoints: false
Supports Statistics: false
Supports Advanced Queries: false
Use StandardizedQueries: true
Raster Type Infos:
Name: Raster Dataset
Description: Supports all ArcGIS Raster Datasets
Help:
Has Raster Attribute Table: false
Edit Fields Info: null
Ownership Based AccessControl For Rasters: null
Child Resources:
Info
Histograms
Key Properties
Legend
Raster Function Infos
Supported Operations:
Export Image
Identify
Measure
Compute Histograms
Compute Statistics Histograms
Get Samples
Compute Class Statistics
Query Boundary
Compute Pixel Location
Compute Angles
Validate
Project